BEGIN:VCALENDAR
VERSION:2.0
PRODID:-// - ECPv6.15.20//NONSGML v1.0//EN
CALSCALE:GREGORIAN
METHOD:PUBLISH
X-ORIGINAL-URL:https://halcyonvillage.net
X-WR-CALDESC:Events for 
REFRESH-INTERVAL;VALUE=DURATION:PT1H
X-Robots-Tag:noindex
X-PUBLISHED-TTL:PT1H
BEGIN:VTIMEZONE
TZID:America/Chicago
BEGIN:DAYLIGHT
TZOFFSETFROM:-0600
TZOFFSETTO:-0500
TZNAME:CDT
DTSTART:20240310T080000
END:DAYLIGHT
BEGIN:STANDARD
TZOFFSETFROM:-0500
TZOFFSETTO:-0600
TZNAME:CST
DTSTART:20241103T070000
END:STANDARD
BEGIN:DAYLIGHT
TZOFFSETFROM:-0600
TZOFFSETTO:-0500
TZNAME:CDT
DTSTART:20250309T080000
END:DAYLIGHT
BEGIN:STANDARD
TZOFFSETFROM:-0500
TZOFFSETTO:-0600
TZNAME:CST
DTSTART:20251102T070000
END:STANDARD
BEGIN:DAYLIGHT
TZOFFSETFROM:-0600
TZOFFSETTO:-0500
TZNAME:CDT
DTSTART:20260308T080000
END:DAYLIGHT
BEGIN:STANDARD
TZOFFSETFROM:-0500
TZOFFSETTO:-0600
TZNAME:CST
DTSTART:20261101T070000
END:STANDARD
BEGIN:DAYLIGHT
TZOFFSETFROM:-0600
TZOFFSETTO:-0500
TZNAME:CDT
DTSTART:20270314T080000
END:DAYLIGHT
BEGIN:STANDARD
TZOFFSETFROM:-0500
TZOFFSETTO:-0600
TZNAME:CST
DTSTART:20271107T070000
END:STANDARD
END:VTIMEZONE
BEGIN:VEVENT
DTSTART;VALUE=DATE:20260420
DTEND;VALUE=DATE:20260421
DTSTAMP:20260423T112845
CREATED:20251019T232414Z
LAST-MODIFIED:20251019T232414Z
UID:6487-1776643200-1776729599@halcyonvillage.net
SUMMARY:🎂 Valerie's Birthday
DESCRIPTION:
URL:https://halcyonvillage.net/event/%f0%9f%8e%82-valeries-birthday/
END:VEVENT
BEGIN:VEVENT
DTSTART;VALUE=DATE:20260420
DTEND;VALUE=DATE:20260421
DTSTAMP:20260423T112845
CREATED:20251019T231106Z
LAST-MODIFIED:20251019T231106Z
UID:6463-1776643200-1776729599@halcyonvillage.net
SUMMARY:💐 Kimberly's 5th ViLlAgEvErSaRy
DESCRIPTION:
URL:https://halcyonvillage.net/event/%f0%9f%92%90-kimberlys-5th-villageversary/
END:VEVENT
BEGIN:VEVENT
DTSTART;VALUE=DATE:20260403
DTEND;VALUE=DATE:20260404
DTSTAMP:20260423T112845
CREATED:20251019T210754Z
LAST-MODIFIED:20251019T210754Z
UID:6425-1775174400-1775260799@halcyonvillage.net
SUMMARY:✝️ Good Friday - Village Closed
DESCRIPTION:
URL:https://halcyonvillage.net/event/%e2%9c%9d%ef%b8%8f-good-friday-village-closed/
END:VEVENT
BEGIN:VEVENT
DTSTART;VALUE=DATE:20260328
DTEND;VALUE=DATE:20260329
DTSTAMP:20260423T112845
CREATED:20251019T230946Z
LAST-MODIFIED:20251019T230946Z
UID:6461-1774656000-1774742399@halcyonvillage.net
SUMMARY:💐 Valerie's 3rd ViLlAgEvErSaRy
DESCRIPTION:
URL:https://halcyonvillage.net/event/%f0%9f%92%90-valeries-3rd-villageversary/
END:VEVENT
BEGIN:VEVENT
DTSTART;VALUE=DATE:20260313
DTEND;VALUE=DATE:20260314
DTSTAMP:20260423T112845
CREATED:20251019T210619Z
LAST-MODIFIED:20251019T210619Z
UID:6423-1773360000-1773446399@halcyonvillage.net
SUMMARY:☕ Fill It Up Friday - Village Closed
DESCRIPTION:
URL:https://halcyonvillage.net/event/%e2%98%95-fill-it-up-friday-village-closed-3/
END:VEVENT
BEGIN:VEVENT
DTSTART;TZID=America/Chicago:20260305T130000
DTEND;TZID=America/Chicago:20260305T190000
DTSTAMP:20260423T112845
CREATED:20260204T012714Z
LAST-MODIFIED:20260210T185247Z
UID:6793-1772715600-1772737200@halcyonvillage.net
SUMMARY:Rooted In Love - Halcyon Village Open Home Event 🌱
DESCRIPTION:You’re Invited! Rooted In Love Open Home Event \n\nCome grow with us! We are so excited to open our doors at the Village and share everything Rooted In Love. Whether you’ve been with us from the start or are just curious about what we do\, we’d love to see your face!\n\nWhen: March 5th | 1:00 PM – 7:00 PM\n\nWhat’s happening:\n Explore: Tour our space and get an up-close look at our services and products.\n Connect: Meet our Village and learn how we can help support your journey.\n Win Big: We’re raffling off an incredible spread of services and products that you won’t want to miss.\n\n100% OF RAFFLE PROCEEDS WILL BE DONATED TO MENTORS CARE to support their goal to give students what they need\, not only to graduate but to live their lives to their fullest potential.\n\nLet Us Know You’re Coming:\n📞 972-775-4344\n💬 833-458-3533\n\nStop by for a few minutes or stay for a while. We can’t wait to welcome you into our Village!
URL:https://halcyonvillage.net/event/rooted-in-love-halcyon-village-open-home-%f0%9f%8c%b1/
LOCATION:Halcyon Village\, 4470 E HWY 287\, Suite 500\, Midlothian\, TX\, 76065\, United States
ATTACH;FMTTYPE=image/png:https://halcyonvillage.net/wp-content/uploads/2026/02/Rooted-In-Love-OPEN-HOUSE-MEDIA-2.png
END:VEVENT
BEGIN:VEVENT
DTSTART;VALUE=DATE:20260304
DTEND;VALUE=DATE:20260305
DTSTAMP:20260423T112845
CREATED:20251019T211349Z
LAST-MODIFIED:20251019T211349Z
UID:6437-1772582400-1772668799@halcyonvillage.net
SUMMARY:🚀 Village Enhancement Day - Village Closed
DESCRIPTION:
URL:https://halcyonvillage.net/event/%f0%9f%9a%80-village-enhancement-day-village-closed/
END:VEVENT
BEGIN:VEVENT
DTSTART;VALUE=DATE:20260223
DTEND;VALUE=DATE:20260224
DTSTAMP:20260423T112845
CREATED:20251019T232222Z
LAST-MODIFIED:20251019T232222Z
UID:6483-1771804800-1771891199@halcyonvillage.net
SUMMARY:🎂 Kimberly's Birthday
DESCRIPTION:
URL:https://halcyonvillage.net/event/%f0%9f%8e%82-kimberlys-birthday/
END:VEVENT
BEGIN:VEVENT
DTSTART;VALUE=DATE:20260218
DTEND;VALUE=DATE:20260219
DTSTAMP:20260423T112845
CREATED:20251019T232129Z
LAST-MODIFIED:20251019T232129Z
UID:6481-1771372800-1771459199@halcyonvillage.net
SUMMARY:🎂 Stephanie's Birthday
DESCRIPTION:
URL:https://halcyonvillage.net/event/%f0%9f%8e%82-stephanies-birthday/
END:VEVENT
BEGIN:VEVENT
DTSTART;VALUE=DATE:20260213
DTEND;VALUE=DATE:20260214
DTSTAMP:20260423T112845
CREATED:20251019T210551Z
LAST-MODIFIED:20251019T210551Z
UID:6421-1770940800-1771027199@halcyonvillage.net
SUMMARY:☕ Fill It Up Friday - Village Closed
DESCRIPTION:
URL:https://halcyonvillage.net/event/%e2%98%95-fill-it-up-friday-village-closed-2/
END:VEVENT
BEGIN:VEVENT
DTSTART;TZID=America/Chicago:20260211T130000
DTEND;TZID=America/Chicago:20260211T140000
DTSTAMP:20260423T112845
CREATED:20260124T235027Z
LAST-MODIFIED:20260124T235223Z
UID:6758-1770814800-1770818400@halcyonvillage.net
SUMMARY:Love Bug Storytime & Valentine Craft Party 💌
DESCRIPTION:Looking for a sweet way to celebrate Valentine’s Day with your little ones? Join us at Halcyon Village for a cozy afternoon of “Love Bug” fun! \n\nWe’ll start by snuggling in for a heartwarming storytime\, followed by a creative session where kids can craft their very own Valentine’s Day masterpieces to take home. It’s the perfect way to spread a little extra love this season!\n\nWhen: February 11th | 1:00 PM – 2:00 PM\nWhere: Halcyon Village\nAges: Perfect for toddlers and elementary-aged “Love Bugs!”
URL:https://halcyonvillage.net/event/love-bug-storytime-valentine-craft-party-%f0%9f%92%8c/
LOCATION:Halcyon Village\, 4470 E HWY 287\, Suite 500\, Midlothian\, TX\, 76065\, United States
ATTACH;FMTTYPE=image/png:https://halcyonvillage.net/wp-content/uploads/2026/01/Love-Bug-Storytime-Valentine-Craft-Party.png
END:VEVENT
BEGIN:VEVENT
DTSTART;TZID=America/Chicago:20260208T080000
DTEND;TZID=America/Chicago:20260208T170000
DTSTAMP:20260423T112845
CREATED:20260205T025500Z
LAST-MODIFIED:20260205T025500Z
UID:6799-1770537600-1770570000@halcyonvillage.net
SUMMARY:🎂 Kelly's Birthday
DESCRIPTION:
URL:https://halcyonvillage.net/event/%f0%9f%8e%82-kellys-birthday/
END:VEVENT
BEGIN:VEVENT
DTSTART;VALUE=DATE:20260116
DTEND;VALUE=DATE:20260117
DTSTAMP:20260423T112845
CREATED:20251019T210458Z
LAST-MODIFIED:20251019T210458Z
UID:6419-1768521600-1768607999@halcyonvillage.net
SUMMARY:☕ Fill It Up Friday - Village Closed
DESCRIPTION:
URL:https://halcyonvillage.net/event/%e2%98%95-fill-it-up-friday-village-closed/
END:VEVENT
BEGIN:VEVENT
DTSTART;VALUE=DATE:20260104
DTEND;VALUE=DATE:20260105
DTSTAMP:20260423T112845
CREATED:20251019T230453Z
LAST-MODIFIED:20251019T230530Z
UID:6457-1767484800-1767571199@halcyonvillage.net
SUMMARY:💐 Macaley's 8th ViLlAgEvErSaRy
DESCRIPTION:
URL:https://halcyonvillage.net/event/%f0%9f%92%90-macaleys-8th-villageversary/
END:VEVENT
BEGIN:VEVENT
DTSTART;VALUE=DATE:20260101
DTEND;VALUE=DATE:20260102
DTSTAMP:20260423T112845
CREATED:20251019T210156Z
LAST-MODIFIED:20251019T210156Z
UID:6417-1767225600-1767311999@halcyonvillage.net
SUMMARY:🥂 Happy New Year - Village Closed
DESCRIPTION:
URL:https://halcyonvillage.net/event/%f0%9f%a5%82-happy-new-year-village-closed/
END:VEVENT
BEGIN:VEVENT
DTSTART;VALUE=DATE:20251231
DTEND;VALUE=DATE:20260101
DTSTAMP:20260423T112845
CREATED:20241112T143355Z
LAST-MODIFIED:20241214T210955Z
UID:5418-1767139200-1767225599@halcyonvillage.net
SUMMARY:Closed for New Year's Eve🍾
DESCRIPTION:
URL:https://halcyonvillage.net/event/new-years-eve-2/
END:VEVENT
BEGIN:VEVENT
DTSTART;VALUE=DATE:20251225
DTEND;VALUE=DATE:20251226
DTSTAMP:20260423T112845
CREATED:20241120T163138Z
LAST-MODIFIED:20241120T163138Z
UID:5465-1766620800-1766707199@halcyonvillage.net
SUMMARY:Julia's Birthday🎂
DESCRIPTION:
URL:https://halcyonvillage.net/event/julias-birthday%f0%9f%8e%82/
END:VEVENT
BEGIN:VEVENT
DTSTART;VALUE=DATE:20251224
DTEND;VALUE=DATE:20251227
DTSTAMP:20260423T112845
CREATED:20241112T143314Z
LAST-MODIFIED:20241112T143314Z
UID:5416-1766534400-1766793599@halcyonvillage.net
SUMMARY:Village Closed for Christmas🎄
DESCRIPTION:
URL:https://halcyonvillage.net/event/village-closed-for-christmas%f0%9f%8e%84/
END:VEVENT
BEGIN:VEVENT
DTSTART;VALUE=DATE:20251212
DTEND;VALUE=DATE:20251213
DTSTAMP:20260423T112845
CREATED:20241120T163516Z
LAST-MODIFIED:20241120T163551Z
UID:5475-1765497600-1765583999@halcyonvillage.net
SUMMARY:Dr. Justin's 3rd Villageversary💐
DESCRIPTION:
URL:https://halcyonvillage.net/event/dr-justins-3rd-villageversary%f0%9f%92%90/
END:VEVENT
BEGIN:VEVENT
DTSTART;TZID=America/Chicago:20251210T133000
DTEND;TZID=America/Chicago:20251210T143000
DTSTAMP:20260423T112845
CREATED:20251019T205550Z
LAST-MODIFIED:20251113T223540Z
UID:6414-1765373400-1765377000@halcyonvillage.net
SUMMARY:Jingle Bells & Christmas Tales
DESCRIPTION:Bring your Littles for a heartwarming afternoon of holiday fun! 🎉 \nJoin us for a truly cozy Christmas Story Time featuring treasured classics\, followed by caroling around the office to spread cheer. \nIt’s the perfect way to make magical holiday memories!🤗 \nPlease RSVP for the fun:\n📞 Call: 972-775-4344\n📱 Text: 833-458-3533
URL:https://halcyonvillage.net/event/jingle-bells-and-christmas-tales/
LOCATION:Halcyon Village\, 4470 E HWY 287\, Suite 500\, Midlothian\, TX\, 76065\, United States
ATTACH;FMTTYPE=image/png:https://halcyonvillage.net/wp-content/uploads/2025/10/CAROLING-DEC.png
END:VEVENT
BEGIN:VEVENT
DTSTART;TZID=America/Chicago:20251206T120000
DTEND;TZID=America/Chicago:20251206T140000
DTSTAMP:20260423T112845
CREATED:20251019T205127Z
LAST-MODIFIED:20251113T220834Z
UID:6409-1765022400-1765029600@halcyonvillage.net
SUMMARY:Santa Visits Halcyon Village
DESCRIPTION:​Get ready for a magical day! Join us on Saturday\, December 6th\, at 12:00 PM as we transform the Village into Santa’s Workshop! \n​We’ve packed the day with holiday cheer:\n​❄️ Holiday Crafts\n🍪 Cookie Decorating\n​📖 Story Time\n​📸 Pictures with Santa Claus! \n​RSVP is required! Please let us know if you’d like to join the fun:\n📞 Call: 972-775-4344\n📱 Text: 833-458-3533 \n​We can’t wait to celebrate the season with you! 🎄
URL:https://halcyonvillage.net/event/santa-visits-halcyon-village/
LOCATION:Halcyon Village\, 4470 E HWY 287\, Suite 500\, Midlothian\, TX\, 76065\, United States
ATTACH;FMTTYPE=image/png:https://halcyonvillage.net/wp-content/uploads/2025/10/Dec-Santa.png
END:VEVENT
BEGIN:VEVENT
DTSTART;VALUE=DATE:20251206
DTEND;VALUE=DATE:20251207
DTSTAMP:20260423T112845
CREATED:20241120T162810Z
LAST-MODIFIED:20241120T163104Z
UID:5463-1764979200-1765065599@halcyonvillage.net
SUMMARY:Christy's Birthday🎂
DESCRIPTION:
URL:https://halcyonvillage.net/event/christys-birthday%f0%9f%8e%82/
END:VEVENT
BEGIN:VEVENT
DTSTART;VALUE=DATE:20251201
DTEND;VALUE=DATE:20251202
DTSTAMP:20260423T112845
CREATED:20241120T162725Z
LAST-MODIFIED:20241120T162725Z
UID:5461-1764547200-1764633599@halcyonvillage.net
SUMMARY:Lisa's Birthday🎂
DESCRIPTION:
URL:https://halcyonvillage.net/event/lisas-birthday%f0%9f%8e%82/
END:VEVENT
BEGIN:VEVENT
DTSTART;VALUE=DATE:20251127
DTEND;VALUE=DATE:20251129
DTSTAMP:20260423T112845
CREATED:20241112T143216Z
LAST-MODIFIED:20241112T143231Z
UID:5412-1764201600-1764374399@halcyonvillage.net
SUMMARY:Village Closed for Thanksgiving🦃
DESCRIPTION:
URL:https://halcyonvillage.net/event/village-closed-for-thanksgiving/
END:VEVENT
BEGIN:VEVENT
DTSTART;TZID=America/Chicago:20251126T070000
DTEND;TZID=America/Chicago:20251126T120000
DTSTAMP:20260423T112845
CREATED:20241112T143120Z
LAST-MODIFIED:20241112T143120Z
UID:5409-1764140400-1764158400@halcyonvillage.net
SUMMARY:Village Closes at Noon
DESCRIPTION:
URL:https://halcyonvillage.net/event/village-closes-at-noon-2/
END:VEVENT
BEGIN:VEVENT
DTSTART;TZID=America/Chicago:20251121T180000
DTEND;TZID=America/Chicago:20251121T200000
DTSTAMP:20260423T112845
CREATED:20251017T013221Z
LAST-MODIFIED:20251017T013221Z
UID:6395-1763748000-1763755200@halcyonvillage.net
SUMMARY:💃 Dancing For Joy 🕺
DESCRIPTION: Dancing For Joy: Move\, Play\, and Celebrate! \n\nGet ready to join Kalaya Lane for a joy-filled\, family-friendly dance journey! We’ll move and groove to uplifting music in a space designed for free-form movement\, inner exploration\, and big fun. This is a chance to reconnect\, build bodily awareness\, and celebrate gratitude together.\n\n We’re serving cacao protein bars to keep your energy up.\n Don’t forget to bring a yoga mat or blanket!
URL:https://halcyonvillage.net/event/%f0%9f%92%83-dancing-for-joy-%f0%9f%95%ba/
LOCATION:Halcyon Village\, 4470 E HWY 287\, Suite 500\, Midlothian\, TX\, 76065\, United States
ATTACH;FMTTYPE=image/png:https://halcyonvillage.net/wp-content/uploads/2025/10/Dancing-For-Joy-Event-1.png
END:VEVENT
BEGIN:VEVENT
DTSTART;TZID=America/Chicago:20251120T130000
DTEND;TZID=America/Chicago:20251120T140000
DTSTAMP:20260423T112845
CREATED:20251019T203544Z
LAST-MODIFIED:20251019T203544Z
UID:6402-1763643600-1763647200@halcyonvillage.net
SUMMARY:Revisiting Gratitude
DESCRIPTION:
URL:https://halcyonvillage.net/event/revisiting-gratitude/
LOCATION:Halcyon Village\, 4470 E HWY 287\, Suite 500\, Midlothian\, TX\, 76065\, United States
ATTACH;FMTTYPE=image/png:https://halcyonvillage.net/wp-content/uploads/2025/10/Revisiting.png
END:VEVENT
BEGIN:VEVENT
DTSTART;VALUE=DATE:20251118
DTEND;VALUE=DATE:20251119
DTSTAMP:20260423T112845
CREATED:20241120T162652Z
LAST-MODIFIED:20241120T162652Z
UID:5459-1763424000-1763510399@halcyonvillage.net
SUMMARY:Jessica's Birthday🎂
DESCRIPTION:
URL:https://halcyonvillage.net/event/jessicas-birthday%f0%9f%8e%82-2/
END:VEVENT
BEGIN:VEVENT
DTSTART;TZID=America/Chicago:20251112T180000
DTEND;TZID=America/Chicago:20251112T190000
DTSTAMP:20260423T112845
CREATED:20251019T202959Z
LAST-MODIFIED:20251107T015234Z
UID:6398-1762970400-1762974000@halcyonvillage.net
SUMMARY:Science Behind Gratitude
DESCRIPTION:Science Behind Gratitude: Understand the Why. Practice the How.\n\n\n\nWhat really happens when you practice being grateful?  Join Dr. Joey for an eye-opening session exploring the science of gratitude and its impact on your well-being.\n\n\n\nWe’ll dive into:\n How consistent gratitude practices change your brain chemistry.\n The profound connection between thankfulness and your overall health.\n How this simple shift can truly change how you feel every day.\n\n\n\n Get Your Brain’s RSVP Pass\n Call: 972-775-4344\n Text: 833-458-3533
URL:https://halcyonvillage.net/event/science-behind-gratitude/
LOCATION:Halcyon Village\, 4470 E HWY 287\, Suite 500\, Midlothian\, TX\, 76065\, United States
ATTACH;FMTTYPE=image/png:https://halcyonvillage.net/wp-content/uploads/2025/10/SCIENCE-BEHIND.png
END:VEVENT
BEGIN:VEVENT
DTSTART;TZID=America/Chicago:20251029T133000
DTEND;TZID=America/Chicago:20251029T143000
DTSTAMP:20260423T112845
CREATED:20250930T203758Z
LAST-MODIFIED:20251002T014631Z
UID:6336-1761744600-1761748200@halcyonvillage.net
SUMMARY:Not So Scary Story Time + A Spooktacular Treat Walk
DESCRIPTION:🎃Join us for a special “Not-So-Scary Story Time” followed by a delightful Spooktacular Treat Walk throughout our office. This event is designed to give your little ones a fun\, controlled\, and safe way to celebrate the season. \n​We encourage all to participate:\n​Kids: Come dressed in your favorite costume!\n​Parents: We invite you to join the fun and come in costume\, too! \n​After hearing some festive\, age-appropriate tales\, we’ll parade around the office for a safe\, indoor trick-or-treating experience. It’s the perfect way to make happy Halloween memories!
URL:https://halcyonvillage.net/event/not-so-scary-story-time-a-spooktacular-treat-walk/
ATTACH;FMTTYPE=image/png:https://halcyonvillage.net/wp-content/uploads/2025/09/Not-So-Scary-Story-1920-x-1005-px.png
END:VEVENT
END:VCALENDAR