BEGIN:VCALENDAR
VERSION:2.0
PRODID:-// - ECPv6.15.20//NONSGML v1.0//EN
CALSCALE:GREGORIAN
METHOD:PUBLISH
X-ORIGINAL-URL:https://halcyonvillage.net
X-WR-CALDESC:Events for 
REFRESH-INTERVAL;VALUE=DURATION:PT1H
X-Robots-Tag:noindex
X-PUBLISHED-TTL:PT1H
BEGIN:VTIMEZONE
TZID:America/Chicago
BEGIN:DAYLIGHT
TZOFFSETFROM:-0600
TZOFFSETTO:-0500
TZNAME:CDT
DTSTART:20250309T080000
END:DAYLIGHT
BEGIN:STANDARD
TZOFFSETFROM:-0500
TZOFFSETTO:-0600
TZNAME:CST
DTSTART:20251102T070000
END:STANDARD
BEGIN:DAYLIGHT
TZOFFSETFROM:-0600
TZOFFSETTO:-0500
TZNAME:CDT
DTSTART:20260308T080000
END:DAYLIGHT
BEGIN:STANDARD
TZOFFSETFROM:-0500
TZOFFSETTO:-0600
TZNAME:CST
DTSTART:20261101T070000
END:STANDARD
BEGIN:DAYLIGHT
TZOFFSETFROM:-0600
TZOFFSETTO:-0500
TZNAME:CDT
DTSTART:20270314T080000
END:DAYLIGHT
BEGIN:STANDARD
TZOFFSETFROM:-0500
TZOFFSETTO:-0600
TZNAME:CST
DTSTART:20271107T070000
END:STANDARD
BEGIN:DAYLIGHT
TZOFFSETFROM:-0600
TZOFFSETTO:-0500
TZNAME:CDT
DTSTART:20280312T080000
END:DAYLIGHT
BEGIN:STANDARD
TZOFFSETFROM:-0500
TZOFFSETTO:-0600
TZNAME:CST
DTSTART:20281105T070000
END:STANDARD
END:VTIMEZONE
BEGIN:VEVENT
DTSTART;TZID=America/Chicago:20260424T180000
DTEND;TZID=America/Chicago:20260424T190000
DTSTAMP:20260423T095151
CREATED:20260129T021043Z
LAST-MODIFIED:20260129T021043Z
UID:6781-1777053600-1777057200@halcyonvillage.net
SUMMARY:Let's Grow Together
DESCRIPTION:Unwind and grow with us during an evening dedicated to the joy of gardening. Gain professional insights from a Master Gardener to help your plants thrive\, then channel your creativity into decorating a custom pot and planting new life to take home. 🪴
URL:https://halcyonvillage.net/event/lets-grow-together/
LOCATION:Halcyon Village\, 4470 E HWY 287\, Suite 500\, Midlothian\, TX\, 76065\, United States
ATTACH;FMTTYPE=image/png:https://halcyonvillage.net/wp-content/uploads/2026/01/Lets-Grow-Together.png
END:VEVENT
BEGIN:VEVENT
DTSTART;TZID=America/Chicago:20260508T180000
DTEND;TZID=America/Chicago:20260508T200000
DTSTAMP:20260423T095151
CREATED:20260312T024018Z
LAST-MODIFIED:20260312T024035Z
UID:6916-1778263200-1778270400@halcyonvillage.net
SUMMARY:✌️ Peace\, Love & Pre-Loved Clothing Exchange 👗
DESCRIPTION:Peace\, Love & Pre-Loved Clothing Exchange \nReady to refresh your wardrobe without the retail price tag? Let’s turn your “meh” into someone else’s “new fave!” Join us for a night of sustainable style\, snacks\, and great company. \nWhen: Friday\, May 8\, 2026 \nTime: 6:00 PM – 8:00 PM \n📋 The Swap Rules\nTo keep things organized and looking fabulous\, please follow these guidelines: \nQuality over Quantity: Please bring at least 6 and no more than 12 items. \nPresentation: All items must be clean and on hangers. This makes it easy for everyone to browse! \nThe “Second Life” Promise: Any items that don’t find a new home by the end of the night will be donated locally to ensure they continue to be loved and used. \n✨ Why Join Us?\nClean out your closet\, grab a snack\, and swap till you drop. We’re hosting a night filled with laughs\, good vibes\, and the best kind of shopping—the free kind! ♻️💖
URL:https://halcyonvillage.net/event/%e2%9c%8c%ef%b8%8f-peace-love-pre-loved-clothing-exchange-%f0%9f%91%97/
LOCATION:Halcyon Village\, 4470 E HWY 287\, Suite 500\, Midlothian\, TX\, 76065\, United States
ATTACH;FMTTYPE=image/png:https://halcyonvillage.net/wp-content/uploads/2026/03/peacelove.png
END:VEVENT
BEGIN:VEVENT
DTSTART;VALUE=DATE:20260515
DTEND;VALUE=DATE:20260516
DTSTAMP:20260423T095151
CREATED:20251019T210837Z
LAST-MODIFIED:20251019T210837Z
UID:6427-1778803200-1778889599@halcyonvillage.net
SUMMARY:☕ Fill It Up Friday - Village Closed
DESCRIPTION:
URL:https://halcyonvillage.net/event/%e2%98%95-fill-it-up-friday-village-closed-4/
END:VEVENT
BEGIN:VEVENT
DTSTART;VALUE=DATE:20260525
DTEND;VALUE=DATE:20260526
DTSTAMP:20260423T095151
CREATED:20251019T211747Z
LAST-MODIFIED:20251019T211747Z
UID:6443-1779667200-1779753599@halcyonvillage.net
SUMMARY:🪖 Memorial Day - Village Closed
DESCRIPTION:
URL:https://halcyonvillage.net/event/%f0%9f%aa%96-memorial-day-village-closed/
END:VEVENT
BEGIN:VEVENT
DTSTART;VALUE=DATE:20260619
DTEND;VALUE=DATE:20260620
DTSTAMP:20260423T095151
CREATED:20251019T210910Z
LAST-MODIFIED:20251019T210910Z
UID:6429-1781827200-1781913599@halcyonvillage.net
SUMMARY:☕ Fill It Up Friday - Village Closed
DESCRIPTION:
URL:https://halcyonvillage.net/event/%e2%98%95-fill-it-up-friday-village-closed-5/
END:VEVENT
BEGIN:VEVENT
DTSTART;VALUE=DATE:20260704
DTEND;VALUE=DATE:20260705
DTSTAMP:20260423T095151
CREATED:20251019T212737Z
LAST-MODIFIED:20251019T212737Z
UID:6455-1783123200-1783209599@halcyonvillage.net
SUMMARY:🎆 Happy Independence Day
DESCRIPTION:
URL:https://halcyonvillage.net/event/%f0%9f%8e%86-happy-independence-day/
END:VEVENT
BEGIN:VEVENT
DTSTART;TZID=America/Chicago:20260706T080000
DTEND;TZID=America/Chicago:20270710T170000
DTSTAMP:20260423T095151
CREATED:20251019T211648Z
LAST-MODIFIED:20251019T211648Z
UID:6441-1783324800-1815238800@halcyonvillage.net
SUMMARY:😎 Rejuvenation Week - Village Closed
DESCRIPTION:
URL:https://halcyonvillage.net/event/%f0%9f%98%8e-rejuvenation-week-village-closed/
END:VEVENT
BEGIN:VEVENT
DTSTART;VALUE=DATE:20260712
DTEND;VALUE=DATE:20260713
DTSTAMP:20260423T095151
CREATED:20251019T232510Z
LAST-MODIFIED:20251019T232510Z
UID:6489-1783814400-1783900799@halcyonvillage.net
SUMMARY:🎂 Dr. Justin's Birthday
DESCRIPTION:
URL:https://halcyonvillage.net/event/%f0%9f%8e%82-dr-justins-birthday/
END:VEVENT
BEGIN:VEVENT
DTSTART;TZID=America/Chicago:20260726T080000
DTEND;TZID=America/Chicago:20260726T170000
DTSTAMP:20260423T095151
CREATED:20260129T021707Z
LAST-MODIFIED:20260129T021707Z
UID:6784-1785052800-1785085200@halcyonvillage.net
SUMMARY:🎂 Mattie's Birthday
DESCRIPTION:
URL:https://halcyonvillage.net/event/%f0%9f%8e%82-matties-birthday/
END:VEVENT
BEGIN:VEVENT
DTSTART;TZID=America/Chicago:20260726T080000
DTEND;TZID=America/Chicago:20260726T170000
DTSTAMP:20260423T095151
CREATED:20260403T035412Z
LAST-MODIFIED:20260403T035412Z
UID:6931-1785052800-1785085200@halcyonvillage.net
SUMMARY:💐 Mattie's 1st ViLlAgEvErSaRy
DESCRIPTION:
URL:https://halcyonvillage.net/event/%f0%9f%92%90-matties-1st-villageversary/
END:VEVENT
BEGIN:VEVENT
DTSTART;VALUE=DATE:20260731
DTEND;VALUE=DATE:20260801
DTSTAMP:20260423T095151
CREATED:20251019T231201Z
LAST-MODIFIED:20251019T231201Z
UID:6465-1785456000-1785542399@halcyonvillage.net
SUMMARY:💐 Julia's 7th ViLlAgEvErSaRy
DESCRIPTION:
URL:https://halcyonvillage.net/event/%f0%9f%92%90-julias-7th-villageversary/
END:VEVENT
BEGIN:VEVENT
DTSTART;VALUE=DATE:20260806
DTEND;VALUE=DATE:20260807
DTSTAMP:20260423T095151
CREATED:20251019T231426Z
LAST-MODIFIED:20251019T231426Z
UID:6467-1785974400-1786060799@halcyonvillage.net
SUMMARY:💐 Happy 14 Years Halcyon Village
DESCRIPTION:
URL:https://halcyonvillage.net/event/%f0%9f%92%90-happy-14-years-halcyon-village/
END:VEVENT
BEGIN:VEVENT
DTSTART;VALUE=DATE:20260814
DTEND;VALUE=DATE:20260815
DTSTAMP:20260423T095151
CREATED:20251019T211024Z
LAST-MODIFIED:20251019T211024Z
UID:6431-1786665600-1786751999@halcyonvillage.net
SUMMARY:☕ Fill It Up Friday - Village Closed
DESCRIPTION:
URL:https://halcyonvillage.net/event/%e2%98%95-fill-it-up-friday-village-closed-6/
END:VEVENT
BEGIN:VEVENT
DTSTART;VALUE=DATE:20260824
DTEND;VALUE=DATE:20260825
DTSTAMP:20260423T095151
CREATED:20251019T232641Z
LAST-MODIFIED:20251019T232641Z
UID:6493-1787529600-1787615999@halcyonvillage.net
SUMMARY:🎂 Macaley's Birthday
DESCRIPTION:
URL:https://halcyonvillage.net/event/%f0%9f%8e%82-macaleys-birthday/
END:VEVENT
BEGIN:VEVENT
DTSTART;VALUE=DATE:20260905
DTEND;VALUE=DATE:20260906
DTSTAMP:20260423T095151
CREATED:20251019T231628Z
LAST-MODIFIED:20251019T231628Z
UID:6471-1788566400-1788652799@halcyonvillage.net
SUMMARY:💐 Stephanie's 3rd ViLlAgEvErSaRy
DESCRIPTION:
URL:https://halcyonvillage.net/event/%f0%9f%92%90-stephanies-3rd-villageversary/
END:VEVENT
BEGIN:VEVENT
DTSTART;VALUE=DATE:20260907
DTEND;VALUE=DATE:20260908
DTSTAMP:20260423T095151
CREATED:20251019T211938Z
LAST-MODIFIED:20251019T211938Z
UID:6445-1788739200-1788825599@halcyonvillage.net
SUMMARY:💼 Labor Day - Village Closed
DESCRIPTION:
URL:https://halcyonvillage.net/event/%f0%9f%92%bc-labor-day-village-closed/
END:VEVENT
BEGIN:VEVENT
DTSTART;VALUE=DATE:20260909
DTEND;VALUE=DATE:20260910
DTSTAMP:20260423T095151
CREATED:20251019T211421Z
LAST-MODIFIED:20251019T211421Z
UID:6439-1788912000-1788998399@halcyonvillage.net
SUMMARY:🚀 Village Enhancement Day - Village Closed
DESCRIPTION:
URL:https://halcyonvillage.net/event/%f0%9f%9a%80-village-enhancement-day-village-closed-2/
END:VEVENT
BEGIN:VEVENT
DTSTART;VALUE=DATE:20260911
DTEND;VALUE=DATE:20260912
DTSTAMP:20260423T095151
CREATED:20251019T231714Z
LAST-MODIFIED:20251019T231714Z
UID:6473-1789084800-1789171199@halcyonvillage.net
SUMMARY:💐 Jessica's 3rd ViLlAgEvErSaRy
DESCRIPTION:
URL:https://halcyonvillage.net/event/%f0%9f%92%90-jessicas-3rd-villageversary/
END:VEVENT
BEGIN:VEVENT
DTSTART;VALUE=DATE:20260925
DTEND;VALUE=DATE:20260926
DTSTAMP:20260423T095151
CREATED:20251019T211055Z
LAST-MODIFIED:20251019T211055Z
UID:6433-1790294400-1790380799@halcyonvillage.net
SUMMARY:☕ Fill It Up Friday - Village Closed
DESCRIPTION:
URL:https://halcyonvillage.net/event/%e2%98%95-fill-it-up-friday-village-closed-7/
END:VEVENT
BEGIN:VEVENT
DTSTART;VALUE=DATE:20260929
DTEND;VALUE=DATE:20260930
DTSTAMP:20260423T095151
CREATED:20251019T232731Z
LAST-MODIFIED:20251019T232731Z
UID:6495-1790640000-1790726399@halcyonvillage.net
SUMMARY:🎂 Dr. Joey's Birthday
DESCRIPTION:
URL:https://halcyonvillage.net/event/%f0%9f%8e%82-dr-joeys-birthday/
END:VEVENT
BEGIN:VEVENT
DTSTART;VALUE=DATE:20261023
DTEND;VALUE=DATE:20261024
DTSTAMP:20260423T095151
CREATED:20251019T211122Z
LAST-MODIFIED:20251019T211122Z
UID:6435-1792713600-1792799999@halcyonvillage.net
SUMMARY:☕ Fill It Up Friday - Village Closed
DESCRIPTION:
URL:https://halcyonvillage.net/event/%e2%98%95-fill-it-up-friday-village-closed-8/
END:VEVENT
BEGIN:VEVENT
DTSTART;TZID=America/Chicago:20261026T080000
DTEND;TZID=America/Chicago:20261026T170000
DTSTAMP:20260423T095151
CREATED:20260403T034416Z
LAST-MODIFIED:20260403T034416Z
UID:6923-1793001600-1793034000@halcyonvillage.net
SUMMARY:🎂 PhoxZee's Birthday
DESCRIPTION:
URL:https://halcyonvillage.net/event/%f0%9f%8e%82-phoxzees-birthday/
END:VEVENT
BEGIN:VEVENT
DTSTART;VALUE=DATE:20261027
DTEND;VALUE=DATE:20261028
DTSTAMP:20260423T095151
CREATED:20251019T232910Z
LAST-MODIFIED:20251019T232910Z
UID:6497-1793059200-1793145599@halcyonvillage.net
SUMMARY:🎂 Dr. Taryn's Birthday
DESCRIPTION:
URL:https://halcyonvillage.net/event/%f0%9f%8e%82-dr-taryns-birthday/
END:VEVENT
BEGIN:VEVENT
DTSTART;VALUE=DATE:20261118
DTEND;VALUE=DATE:20261119
DTSTAMP:20260423T095151
CREATED:20251019T232954Z
LAST-MODIFIED:20251019T232954Z
UID:6499-1794960000-1795046399@halcyonvillage.net
SUMMARY:🎂 Jessica's Birthday
DESCRIPTION:
URL:https://halcyonvillage.net/event/%f0%9f%8e%82-jessicas-birthday/
END:VEVENT
BEGIN:VEVENT
DTSTART;TZID=America/Chicago:20261125T120000
DTEND;TZID=America/Chicago:20261128T170000
DTSTAMP:20260423T095151
CREATED:20251019T212123Z
LAST-MODIFIED:20251019T212123Z
UID:6447-1795608000-1795885200@halcyonvillage.net
SUMMARY:🦃 Happy Thanksgiving - Village Closed
DESCRIPTION:
URL:https://halcyonvillage.net/event/%f0%9f%a6%83-happy-thanksgiving-village-closed/
END:VEVENT
BEGIN:VEVENT
DTSTART;VALUE=DATE:20261212
DTEND;VALUE=DATE:20261213
DTSTAMP:20260423T095151
CREATED:20251019T232009Z
LAST-MODIFIED:20251019T232009Z
UID:6479-1797033600-1797119999@halcyonvillage.net
SUMMARY:💐 Dr. Justin's 4th ViLlAgEvErSaRy
DESCRIPTION:
URL:https://halcyonvillage.net/event/%f0%9f%92%90-dr-justins-4th-villageversary/
END:VEVENT
BEGIN:VEVENT
DTSTART;TZID=America/Chicago:20261223T080000
DTEND;TZID=America/Chicago:20261226T170000
DTSTAMP:20260423T095151
CREATED:20251019T212236Z
LAST-MODIFIED:20251019T212236Z
UID:6449-1798012800-1798304400@halcyonvillage.net
SUMMARY:🎄 Merry CHRISTmas - Village Closed
DESCRIPTION:
URL:https://halcyonvillage.net/event/%f0%9f%8e%84-merry-christmas-village-closed/
END:VEVENT
BEGIN:VEVENT
DTSTART;VALUE=DATE:20261225
DTEND;VALUE=DATE:20261226
DTSTAMP:20260423T095151
CREATED:20251019T233156Z
LAST-MODIFIED:20251019T233156Z
UID:6505-1798156800-1798243199@halcyonvillage.net
SUMMARY:🎂 Julia's Birthday
DESCRIPTION:
URL:https://halcyonvillage.net/event/%f0%9f%8e%82-julias-birthday/
END:VEVENT
BEGIN:VEVENT
DTSTART;TZID=America/Chicago:20261231T120000
DTEND;TZID=America/Chicago:20261231T170000
DTSTAMP:20260423T095151
CREATED:20251019T212520Z
LAST-MODIFIED:20251019T212520Z
UID:6451-1798718400-1798736400@halcyonvillage.net
SUMMARY:🎉 New Year's Eve - Village Closes At Noon
DESCRIPTION:
URL:https://halcyonvillage.net/event/%f0%9f%8e%89-new-years-eve-village-closes-at-noon/
END:VEVENT
BEGIN:VEVENT
DTSTART;VALUE=DATE:20270101
DTEND;VALUE=DATE:20270102
DTSTAMP:20260423T095151
CREATED:20251019T212618Z
LAST-MODIFIED:20251019T212618Z
UID:6453-1798761600-1798847999@halcyonvillage.net
SUMMARY:🥂 New Year's Day - Village Closed
DESCRIPTION:
URL:https://halcyonvillage.net/event/%f0%9f%a5%82-new-years-day-village-closed/
END:VEVENT
END:VCALENDAR