BEGIN:VCALENDAR
VERSION:2.0
PRODID:-// - ECPv6.15.20//NONSGML v1.0//EN
CALSCALE:GREGORIAN
METHOD:PUBLISH
X-ORIGINAL-URL:https://halcyonvillage.net
X-WR-CALDESC:Events for 
REFRESH-INTERVAL;VALUE=DURATION:PT1H
X-Robots-Tag:noindex
X-PUBLISHED-TTL:PT1H
BEGIN:VTIMEZONE
TZID:America/Chicago
BEGIN:DAYLIGHT
TZOFFSETFROM:-0600
TZOFFSETTO:-0500
TZNAME:CDT
DTSTART:20240310T080000
END:DAYLIGHT
BEGIN:STANDARD
TZOFFSETFROM:-0500
TZOFFSETTO:-0600
TZNAME:CST
DTSTART:20241103T070000
END:STANDARD
BEGIN:DAYLIGHT
TZOFFSETFROM:-0600
TZOFFSETTO:-0500
TZNAME:CDT
DTSTART:20250309T080000
END:DAYLIGHT
BEGIN:STANDARD
TZOFFSETFROM:-0500
TZOFFSETTO:-0600
TZNAME:CST
DTSTART:20251102T070000
END:STANDARD
BEGIN:DAYLIGHT
TZOFFSETFROM:-0600
TZOFFSETTO:-0500
TZNAME:CDT
DTSTART:20260308T080000
END:DAYLIGHT
BEGIN:STANDARD
TZOFFSETFROM:-0500
TZOFFSETTO:-0600
TZNAME:CST
DTSTART:20261101T070000
END:STANDARD
END:VTIMEZONE
BEGIN:VEVENT
DTSTART;TZID=America/Chicago:20251126T070000
DTEND;TZID=America/Chicago:20251126T120000
DTSTAMP:20260423T143815
CREATED:20241112T143120Z
LAST-MODIFIED:20241112T143120Z
UID:5409-1764140400-1764158400@halcyonvillage.net
SUMMARY:Village Closes at Noon
DESCRIPTION:
URL:https://halcyonvillage.net/event/village-closes-at-noon-2/
END:VEVENT
BEGIN:VEVENT
DTSTART;TZID=America/Chicago:20251121T180000
DTEND;TZID=America/Chicago:20251121T200000
DTSTAMP:20260423T143815
CREATED:20251017T013221Z
LAST-MODIFIED:20251017T013221Z
UID:6395-1763748000-1763755200@halcyonvillage.net
SUMMARY:💃 Dancing For Joy 🕺
DESCRIPTION: Dancing For Joy: Move\, Play\, and Celebrate! \n\nGet ready to join Kalaya Lane for a joy-filled\, family-friendly dance journey! We’ll move and groove to uplifting music in a space designed for free-form movement\, inner exploration\, and big fun. This is a chance to reconnect\, build bodily awareness\, and celebrate gratitude together.\n\n We’re serving cacao protein bars to keep your energy up.\n Don’t forget to bring a yoga mat or blanket!
URL:https://halcyonvillage.net/event/%f0%9f%92%83-dancing-for-joy-%f0%9f%95%ba/
LOCATION:Halcyon Village\, 4470 E HWY 287\, Suite 500\, Midlothian\, TX\, 76065\, United States
ATTACH;FMTTYPE=image/png:https://halcyonvillage.net/wp-content/uploads/2025/10/Dancing-For-Joy-Event-1.png
END:VEVENT
BEGIN:VEVENT
DTSTART;TZID=America/Chicago:20251120T130000
DTEND;TZID=America/Chicago:20251120T140000
DTSTAMP:20260423T143815
CREATED:20251019T203544Z
LAST-MODIFIED:20251019T203544Z
UID:6402-1763643600-1763647200@halcyonvillage.net
SUMMARY:Revisiting Gratitude
DESCRIPTION:
URL:https://halcyonvillage.net/event/revisiting-gratitude/
LOCATION:Halcyon Village\, 4470 E HWY 287\, Suite 500\, Midlothian\, TX\, 76065\, United States
ATTACH;FMTTYPE=image/png:https://halcyonvillage.net/wp-content/uploads/2025/10/Revisiting.png
END:VEVENT
BEGIN:VEVENT
DTSTART;VALUE=DATE:20251118
DTEND;VALUE=DATE:20251119
DTSTAMP:20260423T143815
CREATED:20241120T162652Z
LAST-MODIFIED:20241120T162652Z
UID:5459-1763424000-1763510399@halcyonvillage.net
SUMMARY:Jessica's Birthday🎂
DESCRIPTION:
URL:https://halcyonvillage.net/event/jessicas-birthday%f0%9f%8e%82-2/
END:VEVENT
BEGIN:VEVENT
DTSTART;TZID=America/Chicago:20251112T180000
DTEND;TZID=America/Chicago:20251112T190000
DTSTAMP:20260423T143815
CREATED:20251019T202959Z
LAST-MODIFIED:20251107T015234Z
UID:6398-1762970400-1762974000@halcyonvillage.net
SUMMARY:Science Behind Gratitude
DESCRIPTION:Science Behind Gratitude: Understand the Why. Practice the How.\n\n\n\nWhat really happens when you practice being grateful?  Join Dr. Joey for an eye-opening session exploring the science of gratitude and its impact on your well-being.\n\n\n\nWe’ll dive into:\n How consistent gratitude practices change your brain chemistry.\n The profound connection between thankfulness and your overall health.\n How this simple shift can truly change how you feel every day.\n\n\n\n Get Your Brain’s RSVP Pass\n Call: 972-775-4344\n Text: 833-458-3533
URL:https://halcyonvillage.net/event/science-behind-gratitude/
LOCATION:Halcyon Village\, 4470 E HWY 287\, Suite 500\, Midlothian\, TX\, 76065\, United States
ATTACH;FMTTYPE=image/png:https://halcyonvillage.net/wp-content/uploads/2025/10/SCIENCE-BEHIND.png
END:VEVENT
BEGIN:VEVENT
DTSTART;TZID=America/Chicago:20251029T133000
DTEND;TZID=America/Chicago:20251029T143000
DTSTAMP:20260423T143815
CREATED:20250930T203758Z
LAST-MODIFIED:20251002T014631Z
UID:6336-1761744600-1761748200@halcyonvillage.net
SUMMARY:Not So Scary Story Time + A Spooktacular Treat Walk
DESCRIPTION:🎃Join us for a special “Not-So-Scary Story Time” followed by a delightful Spooktacular Treat Walk throughout our office. This event is designed to give your little ones a fun\, controlled\, and safe way to celebrate the season. \n​We encourage all to participate:\n​Kids: Come dressed in your favorite costume!\n​Parents: We invite you to join the fun and come in costume\, too! \n​After hearing some festive\, age-appropriate tales\, we’ll parade around the office for a safe\, indoor trick-or-treating experience. It’s the perfect way to make happy Halloween memories!
URL:https://halcyonvillage.net/event/not-so-scary-story-time-a-spooktacular-treat-walk/
ATTACH;FMTTYPE=image/png:https://halcyonvillage.net/wp-content/uploads/2025/09/Not-So-Scary-Story-1920-x-1005-px.png
END:VEVENT
BEGIN:VEVENT
DTSTART;VALUE=DATE:20251027
DTEND;VALUE=DATE:20251028
DTSTAMP:20260423T143815
CREATED:20241120T162624Z
LAST-MODIFIED:20250318T140214Z
UID:5456-1761523200-1761609599@halcyonvillage.net
SUMMARY:Dr. Taryn's Birthday🎂
DESCRIPTION:
URL:https://halcyonvillage.net/event/dr-tarryns-birthday%f0%9f%8e%82/
END:VEVENT
BEGIN:VEVENT
DTSTART;TZID=America/Chicago:20251015T180000
DTEND;TZID=America/Chicago:20251015T190000
DTSTAMP:20260423T143815
CREATED:20250930T203523Z
LAST-MODIFIED:20250930T204621Z
UID:6334-1760551200-1760554800@halcyonvillage.net
SUMMARY:Pimples Are Scary... But SKINCARE Isn't
DESCRIPTION:
URL:https://halcyonvillage.net/event/pimples-are-scary-but-skincare-isnt/
ATTACH;FMTTYPE=image/png:https://halcyonvillage.net/wp-content/uploads/2025/09/pimples-are-scary.-1920-x-1005-px-1.png
END:VEVENT
BEGIN:VEVENT
DTSTART;TZID=America/Chicago:20251008T180000
DTEND;TZID=America/Chicago:20251008T190000
DTSTAMP:20260423T143815
CREATED:20251002T012518Z
LAST-MODIFIED:20251002T012518Z
UID:6389-1759946400-1759950000@halcyonvillage.net
SUMMARY:Healing Inside Out
DESCRIPTION:HEALING INSIDE OUT \n🌱 Join Dustin Strong\, CAN\, ACN\, Founder\, Strong On Health\, for an informative session on the Standard Process 21-Day Purification Program. \n​Dustin\, a Board Certified Holistic Nutritionist\, Certified Applied Clinical Nutritionist\, and Lifestyle Health & Wellness Counselor\, will discuss all the benefits of this proven purification program. Whether you’re looking to boost energy\, improve digestion\, support weight management\, or simply take the next step in your health journey\, this talk is for you. 🌟
URL:https://halcyonvillage.net/event/healing-inside-out/
LOCATION:Halcyon Village\, 4470 E HWY 287\, Suite 500\, Midlothian\, TX\, 76065\, United States
ATTACH;FMTTYPE=image/png:https://halcyonvillage.net/wp-content/uploads/2025/10/healing-inside-out-event.png
END:VEVENT
BEGIN:VEVENT
DTSTART;TZID=America/Chicago:20251007T063000
DTEND;TZID=America/Chicago:20251007T070000
DTSTAMP:20260423T143815
CREATED:20250826T221001Z
LAST-MODIFIED:20250827T000548Z
UID:6238-1759818600-1759820400@halcyonvillage.net
SUMMARY:🌞Together in the Light: Sunrise Prayer at Halcyon Village🙏
DESCRIPTION:OPEN TO THE PUBLIC 🙏 \n EVERY TUESDAY MORNING 🌞 6:30 a.m. – 7:00 a.m.  \nBEGINNING OCTOBER 7TH 🙏 \nWe invite you to be prayed for! Prayer is our biggest flex in the Kingdom. We want to gather with you and pour out prayer and praise around your burdens. We desire to shift your heart and thoughts toward The King. You can bring a list or one thing. We will hold space for your feelings and needs while we lay hands over you. If you are unable to be physically present\,  send us your written requests. The 30 minutes will be dedicated to rattling Heaven with the petitions of our community!
URL:https://halcyonvillage.net/event/sunriseprayer/
ATTACH;FMTTYPE=image/png:https://halcyonvillage.net/wp-content/uploads/2025/08/SUNRISE.png
END:VEVENT
BEGIN:VEVENT
DTSTART;VALUE=DATE:20250929
DTEND;VALUE=DATE:20250930
DTSTAMP:20260423T143815
CREATED:20241120T162544Z
LAST-MODIFIED:20241120T162544Z
UID:5454-1759104000-1759190399@halcyonvillage.net
SUMMARY:Dr. Joey's Birthday🎂
DESCRIPTION:
URL:https://halcyonvillage.net/event/dr-joeys-birthday%f0%9f%8e%82-2/
END:VEVENT
BEGIN:VEVENT
DTSTART;TZID=America/Chicago:20250924T180000
DTEND;TZID=America/Chicago:20250924T193000
DTSTAMP:20260423T143815
CREATED:20250916T143458Z
LAST-MODIFIED:20250916T143458Z
UID:6269-1758736800-1758742200@halcyonvillage.net
SUMMARY:Boundary Blueprint: A No-Nonsense Guide to Saying No with Confidence
DESCRIPTION:BOUNDARY SETTING WITH CONFIDENCE 🙅‍♀️ \nFeeling overwhelmed and overextended? \nJoin Transformation Guide\, Tilde Guajardo\, for an evening of empowerment. Learn how to confidently say “no” to reclaim your peace and joy. \nThis workshop will teach you to: Set guilt-free boundaries Break free from over-giving Create space for yourself to live with more peace and joy
URL:https://halcyonvillage.net/event/boundary-blueprint/
ATTACH;FMTTYPE=image/png:https://halcyonvillage.net/wp-content/uploads/2025/09/BOUNDARY-BLUEPRINT-EVENT-Presentation.png
END:VEVENT
BEGIN:VEVENT
DTSTART;TZID=America/Chicago:20250917T180000
DTEND;TZID=America/Chicago:20250917T190000
DTSTAMP:20260423T143815
CREATED:20250821T223809Z
LAST-MODIFIED:20250828T194236Z
UID:6232-1758132000-1758135600@halcyonvillage.net
SUMMARY:Huddle Up! Gain the mental edge you're looking for both on the field and in the classroom!
DESCRIPTION:  \n \n🏀🏐⚽COACHES & ATHLETES!!!!! 🏆🥎🏈⚾ THIS EVENT IS FOR YOU!!! \n👉Join Dr. Joey and Valerie on Wednesday\, September 📅17th at 6:00 P.M. for an information packed\, engaging and enlightening conversation about the challenges today’s student athlete face both on and off the field. We’ll bring to light adversities you may not have thought of but offer full proof strategies certain to elevate today’s competitors beyond their own expectations. \n🤫You don’t want to miss out on the secret plays we’ve got in store! Space will be limited!!! \n🏀🏐⚽GIVEAWAY🥎🏈⚾\n🏆One awesome participant will receive a bottle of\nStandard Process Whole Food Folate \n🎁EVERY attendee will receive some amazing gifts from Dr. Joey:\n🏆E-BOOK\n🏆PURCHASE A PACKAGE OF 10 COLD LASER SESSIONS AND RECEIVE 1 FREE COLD LASER SESSION🏆\n🏆LACROSSE BALL
URL:https://halcyonvillage.net/event/huddle-up/
ATTACH;FMTTYPE=image/png:https://halcyonvillage.net/wp-content/uploads/2025/08/Copy-of-stronger-focus-Facebook-Post.png
END:VEVENT
BEGIN:VEVENT
DTSTART;VALUE=DATE:20250911
DTEND;VALUE=DATE:20250912
DTSTAMP:20260423T143815
CREATED:20241120T162501Z
LAST-MODIFIED:20241120T162501Z
UID:5452-1757548800-1757635199@halcyonvillage.net
SUMMARY:Jessica's 2nd Villageversary💐
DESCRIPTION:
URL:https://halcyonvillage.net/event/jessicas-2nd-villageversary%f0%9f%92%90/
END:VEVENT
BEGIN:VEVENT
DTSTART;VALUE=DATE:20250905
DTEND;VALUE=DATE:20250906
DTSTAMP:20260423T143815
CREATED:20241120T162335Z
LAST-MODIFIED:20241120T162349Z
UID:5449-1757030400-1757116799@halcyonvillage.net
SUMMARY:Stephanie's 2nd Villageversary💐
DESCRIPTION:
URL:https://halcyonvillage.net/event/stephanies-2nd-villageversary%f0%9f%92%90/
END:VEVENT
BEGIN:VEVENT
DTSTART;VALUE=DATE:20250901
DTEND;VALUE=DATE:20250902
DTSTAMP:20260423T143815
CREATED:20241112T143029Z
LAST-MODIFIED:20241112T143029Z
UID:5407-1756684800-1756771199@halcyonvillage.net
SUMMARY:Labor Day
DESCRIPTION:
URL:https://halcyonvillage.net/event/labor-day/
END:VEVENT
BEGIN:VEVENT
DTSTART;VALUE=DATE:20250824
DTEND;VALUE=DATE:20250825
DTSTAMP:20260423T143815
CREATED:20241120T162132Z
LAST-MODIFIED:20241120T162132Z
UID:5445-1755993600-1756079999@halcyonvillage.net
SUMMARY:Macaley's Birthday🎂
DESCRIPTION:
URL:https://halcyonvillage.net/event/macaleys-birthday%f0%9f%8e%82-2/
END:VEVENT
BEGIN:VEVENT
DTSTART;TZID=America/Chicago:20250819T080000
DTEND;TZID=America/Chicago:20250819T170000
DTSTAMP:20260423T143815
CREATED:20241120T162223Z
LAST-MODIFIED:20241120T162223Z
UID:5447-1755590400-1755622800@halcyonvillage.net
SUMMARY:Novelette's 1st Villageversary💐
DESCRIPTION:
URL:https://halcyonvillage.net/event/novelettes-1st-villageversary%f0%9f%92%90/
END:VEVENT
BEGIN:VEVENT
DTSTART;TZID=America/Chicago:20250815T173000
DTEND;TZID=America/Chicago:20250815T193000
DTSTAMP:20260423T143815
CREATED:20250804T163221Z
LAST-MODIFIED:20250804T163221Z
UID:6226-1755279000-1755286200@halcyonvillage.net
SUMMARY:Weight Off Your Shoulders: A Self-Care Evening with Halcyon Village
DESCRIPTION:Give your neck and shoulders the TLC they deserve!\n Join us on August 15th from 5:30 PM – 7:30 PM for a wonderfully relaxing evening!\n\nLisa Alexander\, our phenomenal massage therapist from Halcyon Village\, will guide us through easy\, effective at-home massage techniques to melt away tension. You’ll also create your very own soothing DIY bath  salts to take home\, perfect for continuing your relaxation journey with the one and only\, Stephanie Patterson.\nEnjoy some lite bites and delightful conversation as we unwind together. Leave feeling lighter\, refreshed\, and ready to release that “weight off your shoulders”!\n\nRESERVE YOUR TLC: 972-775-4344 833-458-3533\n\
URL:https://halcyonvillage.net/event/self-care-event/
ATTACH;FMTTYPE=image/png:https://halcyonvillage.net/wp-content/uploads/2025/08/Weight-Off-Your-Shoulders-Event.png
END:VEVENT
BEGIN:VEVENT
DTSTART;VALUE=DATE:20250806
DTEND;VALUE=DATE:20250807
DTSTAMP:20260423T143815
CREATED:20241120T162008Z
LAST-MODIFIED:20241120T162008Z
UID:5443-1754438400-1754524799@halcyonvillage.net
SUMMARY:Village 13th Anniversary💐
DESCRIPTION:
URL:https://halcyonvillage.net/event/village-13th-anniversary%f0%9f%92%90/
END:VEVENT
BEGIN:VEVENT
DTSTART;VALUE=DATE:20250731
DTEND;VALUE=DATE:20250801
DTSTAMP:20260423T143815
CREATED:20241120T161858Z
LAST-MODIFIED:20241120T161858Z
UID:5441-1753920000-1754006399@halcyonvillage.net
SUMMARY:Julia's 6th Villageversary💐
DESCRIPTION:
URL:https://halcyonvillage.net/event/julias-6th-villageversary%f0%9f%92%90/
END:VEVENT
BEGIN:VEVENT
DTSTART;VALUE=DATE:20250728
DTEND;VALUE=DATE:20250802
DTSTAMP:20260423T143815
CREATED:20241112T143000Z
LAST-MODIFIED:20250714T001550Z
UID:5405-1753660800-1754092799@halcyonvillage.net
SUMMARY:Rejuvenation Week🥰
DESCRIPTION:
URL:https://halcyonvillage.net/event/rejuvination-week%f0%9f%a5%b0/
END:VEVENT
BEGIN:VEVENT
DTSTART;VALUE=DATE:20250712
DTEND;VALUE=DATE:20250713
DTSTAMP:20260423T143815
CREATED:20241120T161511Z
LAST-MODIFIED:20250422T195051Z
UID:5439-1752278400-1752364799@halcyonvillage.net
SUMMARY:Dr. Justin's Birthday🎂
DESCRIPTION:
URL:https://halcyonvillage.net/event/dr-justins-birthday%f0%9f%8e%82/
END:VEVENT
BEGIN:VEVENT
DTSTART;VALUE=DATE:20250704
DTEND;VALUE=DATE:20250705
DTSTAMP:20260423T143815
CREATED:20241112T142846Z
LAST-MODIFIED:20241112T142846Z
UID:5403-1751587200-1751673599@halcyonvillage.net
SUMMARY:Independence Day💥
DESCRIPTION:
URL:https://halcyonvillage.net/event/independence-day%f0%9f%92%a5/
END:VEVENT
BEGIN:VEVENT
DTSTART;VALUE=DATE:20250526
DTEND;VALUE=DATE:20250527
DTSTAMP:20260423T143815
CREATED:20241112T142427Z
LAST-MODIFIED:20241112T142427Z
UID:5401-1748217600-1748303999@halcyonvillage.net
SUMMARY:Memorial Day
DESCRIPTION:
URL:https://halcyonvillage.net/event/memorial-day/
END:VEVENT
BEGIN:VEVENT
DTSTART;TZID=America/Chicago:20250515T103000
DTEND;TZID=America/Chicago:20250515T120000
DTSTAMP:20260423T143815
CREATED:20250501T220817Z
LAST-MODIFIED:20250501T220817Z
UID:5937-1747305000-1747310400@halcyonvillage.net
SUMMARY:Jarred Joy: Salad in a Jar PARTY!
DESCRIPTION:Jarred Joy: Salad in a Jar Party!\nAt our Salad in a Jar Party\, we’ll create a vibrant\, potluck-style salad bar and build ready-to-go salads to take home. Plus\, we’ll enjoy a fresh and delicious lunch together!   \nHere’s how it works: Each guest brings 3 salad ingredients to share with the group—washed\, chopped\, and ready to go! For example\, a container of spring mix\, cherry tomatoes\, and a salad dressing. Be generous with your portions\, and get creative! Think grains\, proteins\, fun toppings\, or bold dressings—whatever inspires you.  \nHalcyon Village is gifting everyone their first three jars to build their salads but feel free to bring a couple extra jars if you’d like to make more. \nAfter building our salads\, we’ll make a plate and sit down to enjoy lunch together!  \n👉LIMITED AVAILABILITY \nWant to join us?  Contact the Village Phone: 972.775.43244 Text: 833.458.3533 or complete the Contact Form💜 \n\n← Back Thank you for your response. ✨\n\n\n					\n						\n							\n							\n						\n						\n						\n						\n						\n							\n								\n									\n										\n										\n									\n									\n										\n										\n									\n								\n							\n						\n						\n							\n								\n									\n									\n										\n									\n									\n									\n								\n							\n						\n					\n				\n\n\n\nName(required)\n\n \n			\n				\n					\n						\n						\n						\n					\n				\n				\n			 \n	\n\n\nEmail(required)\n\n \n			\n				\n					\n						\n						\n						\n					\n				\n				\n			 \n	\n\n\nMessage(required)\n\n \n			\n				\n					\n						\n						\n						\n					\n				\n				\n			\n	\n	\n\n				\n					\n				\n						Submit
URL:https://halcyonvillage.net/event/jarred-joy-salad-in-a-jar-party/
LOCATION:Halcyon Village\, 4470 E HWY 287\, Suite 500\, Midlothian\, TX\, 76065\, United States
ATTACH;FMTTYPE=image/png:https://halcyonvillage.net/wp-content/uploads/2025/05/Title.png
END:VEVENT
BEGIN:VEVENT
DTSTART;TZID=America/Chicago:20250507T113000
DTEND;TZID=America/Chicago:20250507T123000
DTSTAMP:20260423T143815
CREATED:20250425T220703Z
LAST-MODIFIED:20250425T220703Z
UID:5914-1746617400-1746621000@halcyonvillage.net
SUMMARY:🧘‍♀️ "Let's Play Yoga" Mommy & Me Yoga Adventures!
DESCRIPTION:What’s Going on in a “Let’s Play Yoga” Class?\nThese classes are quite different from your typical adult class. An adult class is typically meditative and quiet; our children’s classes are animated\, noisy\, and spontaneous! “Let’s Play Yoga” instructors use storytelling\, games\, music\, and FUN to physically and mentally engage children. \nAdults often have to work at Yoga\, but kids play at Yoga! \nWhile playing Yoga\, children move about\, play breathing games\, make noises\, and pretend to be animals! They hiss like snakes in Cobra pose\, bark like dogs in Downward facing dog\, or learn to balance in tree pose! \n“LET’S PLAY YOGA” is designed for children ages 2-6. \nLIMITED AVAILABILITY- Contact our Village to reserve your spots! \nPhone: 972.775.4344 or Text: 833.458.3533
URL:https://halcyonvillage.net/event/lets-play-yoga/
LOCATION:Halcyon Village\, 4470 E HWY 287\, Suite 500\, Midlothian\, TX\, 76065\, United States
ATTACH;FMTTYPE=image/jpeg:https://halcyonvillage.net/wp-content/uploads/2025/04/Copy-of-Ccoming.jpg
END:VEVENT
BEGIN:VEVENT
DTSTART;VALUE=DATE:20250420
DTEND;VALUE=DATE:20250421
DTSTAMP:20260423T143815
CREATED:20241120T161423Z
LAST-MODIFIED:20241120T161423Z
UID:5437-1745107200-1745193599@halcyonvillage.net
SUMMARY:Valerie's Birthday🎂
DESCRIPTION:
URL:https://halcyonvillage.net/event/valeries-birthday%f0%9f%8e%82/
END:VEVENT
BEGIN:VEVENT
DTSTART;VALUE=DATE:20250420
DTEND;VALUE=DATE:20250421
DTSTAMP:20260423T143815
CREATED:20241120T161228Z
LAST-MODIFIED:20241120T161228Z
UID:5433-1745107200-1745193599@halcyonvillage.net
SUMMARY:Kimberly's 4th Villageversary💐
DESCRIPTION:
URL:https://halcyonvillage.net/event/kimberlys-4th-villageversary%f0%9f%92%90/
END:VEVENT
BEGIN:VEVENT
DTSTART;VALUE=DATE:20250420
DTEND;VALUE=DATE:20250421
DTSTAMP:20260423T143815
CREATED:20241112T142400Z
LAST-MODIFIED:20241112T142400Z
UID:5399-1745107200-1745193599@halcyonvillage.net
SUMMARY:Easter Sunday
DESCRIPTION:
URL:https://halcyonvillage.net/event/easter-sunday-2/
END:VEVENT
END:VCALENDAR