BEGIN:VCALENDAR
VERSION:2.0
PRODID:-// - ECPv6.15.20//NONSGML v1.0//EN
CALSCALE:GREGORIAN
METHOD:PUBLISH
X-ORIGINAL-URL:https://halcyonvillage.net
X-WR-CALDESC:Events for 
REFRESH-INTERVAL;VALUE=DURATION:PT1H
X-Robots-Tag:noindex
X-PUBLISHED-TTL:PT1H
BEGIN:VTIMEZONE
TZID:America/Chicago
BEGIN:DAYLIGHT
TZOFFSETFROM:-0600
TZOFFSETTO:-0500
TZNAME:CDT
DTSTART:20230312T080000
END:DAYLIGHT
BEGIN:STANDARD
TZOFFSETFROM:-0500
TZOFFSETTO:-0600
TZNAME:CST
DTSTART:20231105T070000
END:STANDARD
BEGIN:DAYLIGHT
TZOFFSETFROM:-0600
TZOFFSETTO:-0500
TZNAME:CDT
DTSTART:20240310T080000
END:DAYLIGHT
BEGIN:STANDARD
TZOFFSETFROM:-0500
TZOFFSETTO:-0600
TZNAME:CST
DTSTART:20241103T070000
END:STANDARD
BEGIN:DAYLIGHT
TZOFFSETFROM:-0600
TZOFFSETTO:-0500
TZNAME:CDT
DTSTART:20250309T080000
END:DAYLIGHT
BEGIN:STANDARD
TZOFFSETFROM:-0500
TZOFFSETTO:-0600
TZNAME:CST
DTSTART:20251102T070000
END:STANDARD
END:VTIMEZONE
BEGIN:VEVENT
DTSTART;TZID=America/Chicago:20241114T184500
DTEND;TZID=America/Chicago:20241114T200000
DTSTAMP:20260423T203046
CREATED:20240906T141216Z
LAST-MODIFIED:20240906T141216Z
UID:4508-1731609900-1731614400@halcyonvillage.net
SUMMARY:Surviving Suffering (book club for survivors)📖
DESCRIPTION:Surviving Suffering \nSuffering is a defining reality of life. Yet many of us are so focused on avoiding discomfort that we’ve never learned how to suffer. But what if we could move from anxiety to durable hope? In The Deepest Place\, Curt Thompson\, MD\, invites us to explore how the Apostle Paul’s experience of love\, secure attachment\, and the deeply felt sense of God’s abiding presence carried him through the challenges he faced–and how it can help us not just survive\, but flourish in the presence of suffering.
URL:https://halcyonvillage.net/event/surviving-suffering-book-club-for-survivors%f0%9f%93%96-10/
END:VEVENT
BEGIN:VEVENT
DTSTART;VALUE=DATE:20241113
DTEND;VALUE=DATE:20241114
DTSTAMP:20260423T203046
CREATED:20241112T133457Z
LAST-MODIFIED:20241112T133457Z
UID:5374-1731456000-1731542399@halcyonvillage.net
SUMMARY:World Kindness Day
DESCRIPTION:
URL:https://halcyonvillage.net/event/world-kindness-day/
END:VEVENT
BEGIN:VEVENT
DTSTART;VALUE=DATE:20241111
DTEND;VALUE=DATE:20241112
DTSTAMP:20260423T203046
CREATED:20241112T133313Z
LAST-MODIFIED:20241112T133313Z
UID:5372-1731283200-1731369599@halcyonvillage.net
SUMMARY:Veteran's Day
DESCRIPTION:
URL:https://halcyonvillage.net/event/veterans-day/
END:VEVENT
BEGIN:VEVENT
DTSTART;TZID=America/Chicago:20241107T184500
DTEND;TZID=America/Chicago:20241107T200000
DTSTAMP:20260423T203046
CREATED:20240906T141146Z
LAST-MODIFIED:20240906T141146Z
UID:4506-1731005100-1731009600@halcyonvillage.net
SUMMARY:Surviving Suffering (book club for survivors)📖
DESCRIPTION:Surviving Suffering \nSuffering is a defining reality of life. Yet many of us are so focused on avoiding discomfort that we’ve never learned how to suffer. But what if we could move from anxiety to durable hope? In The Deepest Place\, Curt Thompson\, MD\, invites us to explore how the Apostle Paul’s experience of love\, secure attachment\, and the deeply felt sense of God’s abiding presence carried him through the challenges he faced–and how it can help us not just survive\, but flourish in the presence of suffering.
URL:https://halcyonvillage.net/event/surviving-suffering-book-club-for-survivors%f0%9f%93%96-9/
END:VEVENT
BEGIN:VEVENT
DTSTART;TZID=America/Chicago:20241031T184500
DTEND;TZID=America/Chicago:20241031T200000
DTSTAMP:20260423T203046
CREATED:20240906T141117Z
LAST-MODIFIED:20240906T141117Z
UID:4504-1730400300-1730404800@halcyonvillage.net
SUMMARY:Surviving Suffering (book club for survivors)📖
DESCRIPTION:Surviving Suffering \nSuffering is a defining reality of life. Yet many of us are so focused on avoiding discomfort that we’ve never learned how to suffer. But what if we could move from anxiety to durable hope? In The Deepest Place\, Curt Thompson\, MD\, invites us to explore how the Apostle Paul’s experience of love\, secure attachment\, and the deeply felt sense of God’s abiding presence carried him through the challenges he faced–and how it can help us not just survive\, but flourish in the presence of suffering.
URL:https://halcyonvillage.net/event/surviving-suffering-book-club-for-survivors%f0%9f%93%96-8/
END:VEVENT
BEGIN:VEVENT
DTSTART;VALUE=DATE:20241031
DTEND;VALUE=DATE:20241101
DTSTAMP:20260423T203046
CREATED:20241008T215524Z
LAST-MODIFIED:20241008T215524Z
UID:5139-1730332800-1730419199@halcyonvillage.net
SUMMARY:Halloween: Village Closes at 4PM🎃
DESCRIPTION:
URL:https://halcyonvillage.net/event/halloween-village-closes-at-4pm%f0%9f%8e%83/
END:VEVENT
BEGIN:VEVENT
DTSTART;VALUE=DATE:20241027
DTEND;VALUE=DATE:20241028
DTSTAMP:20260423T203046
CREATED:20241008T215158Z
LAST-MODIFIED:20241008T215158Z
UID:5127-1729987200-1730073599@halcyonvillage.net
SUMMARY:Dr. Taryn's Birthday🎂
DESCRIPTION:
URL:https://halcyonvillage.net/event/dr-taryns-birthday%f0%9f%8e%82/
END:VEVENT
BEGIN:VEVENT
DTSTART;VALUE=DATE:20241025
DTEND;VALUE=DATE:20241026
DTSTAMP:20260423T203046
CREATED:20241008T215446Z
LAST-MODIFIED:20241008T215446Z
UID:5137-1729814400-1729900799@halcyonvillage.net
SUMMARY:Village Closed for Fill It Up Friday☕
DESCRIPTION:
URL:https://halcyonvillage.net/event/village-closed-for-fill-it-up-friday%e2%98%95/
END:VEVENT
BEGIN:VEVENT
DTSTART;TZID=America/Chicago:20241024T184500
DTEND;TZID=America/Chicago:20241024T200000
DTSTAMP:20260423T203046
CREATED:20240906T141046Z
LAST-MODIFIED:20240906T141046Z
UID:4502-1729795500-1729800000@halcyonvillage.net
SUMMARY:Surviving Suffering (book club for survivors)📖
DESCRIPTION:Surviving Suffering \nSuffering is a defining reality of life. Yet many of us are so focused on avoiding discomfort that we’ve never learned how to suffer. But what if we could move from anxiety to durable hope? In The Deepest Place\, Curt Thompson\, MD\, invites us to explore how the Apostle Paul’s experience of love\, secure attachment\, and the deeply felt sense of God’s abiding presence carried him through the challenges he faced–and how it can help us not just survive\, but flourish in the presence of suffering.
URL:https://halcyonvillage.net/event/surviving-suffering-book-club-for-survivors%f0%9f%93%96-7/
END:VEVENT
BEGIN:VEVENT
DTSTART;VALUE=DATE:20241019
DTEND;VALUE=DATE:20241020
DTSTAMP:20260423T203046
CREATED:20241008T215412Z
LAST-MODIFIED:20241008T215412Z
UID:5135-1729296000-1729382399@halcyonvillage.net
SUMMARY:World Pediatric Bone & Joint Day🦴
DESCRIPTION:
URL:https://halcyonvillage.net/event/world-pediatric-bone-joint-day%f0%9f%a6%b4/
END:VEVENT
BEGIN:VEVENT
DTSTART;TZID=America/Chicago:20241017T184500
DTEND;TZID=America/Chicago:20241017T200000
DTSTAMP:20260423T203046
CREATED:20240906T140951Z
LAST-MODIFIED:20240906T141012Z
UID:4500-1729190700-1729195200@halcyonvillage.net
SUMMARY:Surviving Suffering (book club for survivors)📖
DESCRIPTION:Surviving Suffering \nSuffering is a defining reality of life. Yet many of us are so focused on avoiding discomfort that we’ve never learned how to suffer. But what if we could move from anxiety to durable hope? In The Deepest Place\, Curt Thompson\, MD\, invites us to explore how the Apostle Paul’s experience of love\, secure attachment\, and the deeply felt sense of God’s abiding presence carried him through the challenges he faced–and how it can help us not just survive\, but flourish in the presence of suffering.
URL:https://halcyonvillage.net/event/surviving-suffering-book-club-for-survivors%f0%9f%93%96-6/
END:VEVENT
BEGIN:VEVENT
DTSTART;VALUE=DATE:20241016
DTEND;VALUE=DATE:20241017
DTSTAMP:20260423T203046
CREATED:20241008T215328Z
LAST-MODIFIED:20241008T215328Z
UID:5133-1729036800-1729123199@halcyonvillage.net
SUMMARY:World Spine Day
DESCRIPTION:
URL:https://halcyonvillage.net/event/world-spine-day/
END:VEVENT
BEGIN:VEVENT
DTSTART;VALUE=DATE:20241016
DTEND;VALUE=DATE:20241017
DTSTAMP:20260423T203046
CREATED:20241008T215125Z
LAST-MODIFIED:20241008T215125Z
UID:5125-1729036800-1729123199@halcyonvillage.net
SUMMARY:Chelsea's Birthday🎂
DESCRIPTION:
URL:https://halcyonvillage.net/event/chelseas-birthday%f0%9f%8e%82/
END:VEVENT
BEGIN:VEVENT
DTSTART;VALUE=DATE:20241011
DTEND;VALUE=DATE:20241012
DTSTAMP:20260423T203046
CREATED:20241008T215233Z
LAST-MODIFIED:20241008T215306Z
UID:5129-1728604800-1728691199@halcyonvillage.net
SUMMARY:International Spread Joy Day📣
DESCRIPTION:
URL:https://halcyonvillage.net/event/international-spread-joy-day/
END:VEVENT
BEGIN:VEVENT
DTSTART;TZID=America/Chicago:20241010T184500
DTEND;TZID=America/Chicago:20241010T200000
DTSTAMP:20260423T203046
CREATED:20240906T140922Z
LAST-MODIFIED:20240906T140922Z
UID:4498-1728585900-1728590400@halcyonvillage.net
SUMMARY:Surviving Suffering (book club for survivors)📖
DESCRIPTION:Surviving Suffering \nSuffering is a defining reality of life. Yet many of us are so focused on avoiding discomfort that we’ve never learned how to suffer. But what if we could move from anxiety to durable hope? In The Deepest Place\, Curt Thompson\, MD\, invites us to explore how the Apostle Paul’s experience of love\, secure attachment\, and the deeply felt sense of God’s abiding presence carried him through the challenges he faced–and how it can help us not just survive\, but flourish in the presence of suffering.
URL:https://halcyonvillage.net/event/surviving-suffering-book-club-for-survivors%f0%9f%93%96-5/
END:VEVENT
BEGIN:VEVENT
DTSTART;TZID=America/Chicago:20241003T184500
DTEND;TZID=America/Chicago:20241003T200000
DTSTAMP:20260423T203046
CREATED:20240906T140853Z
LAST-MODIFIED:20240906T140853Z
UID:4496-1727981100-1727985600@halcyonvillage.net
SUMMARY:Surviving Suffering (book club for survivors)📖
DESCRIPTION:Surviving Suffering \nSuffering is a defining reality of life. Yet many of us are so focused on avoiding discomfort that we’ve never learned how to suffer. But what if we could move from anxiety to durable hope? In The Deepest Place\, Curt Thompson\, MD\, invites us to explore how the Apostle Paul’s experience of love\, secure attachment\, and the deeply felt sense of God’s abiding presence carried him through the challenges he faced–and how it can help us not just survive\, but flourish in the presence of suffering.
URL:https://halcyonvillage.net/event/surviving-suffering-book-club-for-survivors%f0%9f%93%96-4/
END:VEVENT
BEGIN:VEVENT
DTSTART;VALUE=DATE:20240929
DTEND;VALUE=DATE:20240930
DTSTAMP:20260423T203046
CREATED:20240903T124412Z
LAST-MODIFIED:20240903T124412Z
UID:4359-1727568000-1727654399@halcyonvillage.net
SUMMARY:Dr. Joey's Birthday🎂
DESCRIPTION:
URL:https://halcyonvillage.net/event/dr-joeys-birthday%f0%9f%8e%82/
END:VEVENT
BEGIN:VEVENT
DTSTART;TZID=America/Chicago:20240928T100000
DTEND;TZID=America/Chicago:20240928T110000
DTSTAMP:20260423T203046
CREATED:20240810T205511Z
LAST-MODIFIED:20240810T210012Z
UID:4289-1727517600-1727521200@halcyonvillage.net
SUMMARY:Divine Design
DESCRIPTION:Join us at Halcyon Village for a collaborative study on the inner performance of our body and the interconnectedness with our Maker. Follow Christy Tyree\, Survival Specialist\, and Malcolm Tyree\, lead pastor at New Vida Church of God\, for a passion-filled\, informative session\, and leave with more confidence in navigating health and the Divine Design you are working with!
URL:https://halcyonvillage.net/event/divine-design/
END:VEVENT
BEGIN:VEVENT
DTSTART;VALUE=DATE:20240927
DTEND;VALUE=DATE:20240928
DTSTAMP:20260423T203046
CREATED:20240903T124138Z
LAST-MODIFIED:20240903T124138Z
UID:4357-1727395200-1727481599@halcyonvillage.net
SUMMARY:Village Closed for Fill It Up Friday
DESCRIPTION:
URL:https://halcyonvillage.net/event/village-closed-for-fill-it-up-friday/
END:VEVENT
BEGIN:VEVENT
DTSTART;TZID=America/Chicago:20240926T184500
DTEND;TZID=America/Chicago:20240926T200000
DTSTAMP:20260423T203046
CREATED:20240906T140812Z
LAST-MODIFIED:20240906T140812Z
UID:4494-1727376300-1727380800@halcyonvillage.net
SUMMARY:Surviving Suffering (book club for survivors)📖
DESCRIPTION:Surviving Suffering \nSuffering is a defining reality of life. Yet many of us are so focused on avoiding discomfort that we’ve never learned how to suffer. But what if we could move from anxiety to durable hope? In The Deepest Place\, Curt Thompson\, MD\, invites us to explore how the Apostle Paul’s experience of love\, secure attachment\, and the deeply felt sense of God’s abiding presence carried him through the challenges he faced–and how it can help us not just survive\, but flourish in the presence of suffering.
URL:https://halcyonvillage.net/event/surviving-suffering-book-club-for-survivors%f0%9f%93%96-3/
END:VEVENT
BEGIN:VEVENT
DTSTART;VALUE=DATE:20240921
DTEND;VALUE=DATE:20240922
DTSTAMP:20260423T203046
CREATED:20240903T124021Z
LAST-MODIFIED:20240903T124021Z
UID:4354-1726876800-1726963199@halcyonvillage.net
SUMMARY:World Gratitude Day
DESCRIPTION:
URL:https://halcyonvillage.net/event/world-gratitude-day/
END:VEVENT
BEGIN:VEVENT
DTSTART;TZID=America/Chicago:20240919T184500
DTEND;TZID=America/Chicago:20240919T200000
DTSTAMP:20260423T203046
CREATED:20240906T140736Z
LAST-MODIFIED:20240906T140736Z
UID:4492-1726771500-1726776000@halcyonvillage.net
SUMMARY:Surviving Suffering (book club for survivors)📖
DESCRIPTION:Surviving Suffering \nSuffering is a defining reality of life. Yet many of us are so focused on avoiding discomfort that we’ve never learned how to suffer. But what if we could move from anxiety to durable hope? In The Deepest Place\, Curt Thompson\, MD\, invites us to explore how the Apostle Paul’s experience of love\, secure attachment\, and the deeply felt sense of God’s abiding presence carried him through the challenges he faced–and how it can help us not just survive\, but flourish in the presence of suffering.
URL:https://halcyonvillage.net/event/surviving-suffering-book-club-for-survivors%f0%9f%93%96-2/
END:VEVENT
BEGIN:VEVENT
DTSTART;VALUE=DATE:20240918
DTEND;VALUE=DATE:20240919
DTSTAMP:20260423T203046
CREATED:20240903T123949Z
LAST-MODIFIED:20240903T123949Z
UID:4351-1726617600-1726703999@halcyonvillage.net
SUMMARY:Chiropractic Founders Day
DESCRIPTION:
URL:https://halcyonvillage.net/event/chiropractic-founders-day/
END:VEVENT
BEGIN:VEVENT
DTSTART;TZID=America/Chicago:20240912T184500
DTEND;TZID=America/Chicago:20240912T200000
DTSTAMP:20260423T203046
CREATED:20240810T205426Z
LAST-MODIFIED:20240906T140639Z
UID:4287-1726166700-1726171200@halcyonvillage.net
SUMMARY:Surviving Suffering (book club for survivors)📖
DESCRIPTION:Surviving Suffering \nSuffering is a defining reality of life. Yet many of us are so focused on avoiding discomfort that we’ve never learned how to suffer. But what if we could move from anxiety to durable hope? In The Deepest Place\, Curt Thompson\, MD\, invites us to explore how the Apostle Paul’s experience of love\, secure attachment\, and the deeply felt sense of God’s abiding presence carried him through the challenges he faced–and how it can help us not just survive\, but flourish in the presence of suffering.
URL:https://halcyonvillage.net/event/surviving-suffering-book-club-for-survivors/
END:VEVENT
BEGIN:VEVENT
DTSTART;VALUE=DATE:20240911
DTEND;VALUE=DATE:20240912
DTSTAMP:20260423T203046
CREATED:20240903T123915Z
LAST-MODIFIED:20240903T123915Z
UID:4349-1726012800-1726099199@halcyonvillage.net
SUMMARY:Jessica's 1st Villageversary
DESCRIPTION:
URL:https://halcyonvillage.net/event/jessicas-1st-villageversary/
END:VEVENT
BEGIN:VEVENT
DTSTART;TZID=America/Chicago:20240906T133000
DTEND;TZID=America/Chicago:20240906T143000
DTSTAMP:20260423T203046
CREATED:20240810T205236Z
LAST-MODIFIED:20240903T130152Z
UID:4285-1725629400-1725633000@halcyonvillage.net
SUMMARY:Hooked on Healthy
DESCRIPTION:Join us to enjoy snacks\, drinks\, friends\, and three 10-minute presentations from some amazing minds. This is a FREE event!
URL:https://halcyonvillage.net/event/hooked-on-healthy-3/
END:VEVENT
BEGIN:VEVENT
DTSTART;TZID=America/Chicago:20240905T184500
DTEND;TZID=America/Chicago:20240905T200000
DTSTAMP:20260423T203046
CREATED:20240906T140555Z
LAST-MODIFIED:20240906T140555Z
UID:4490-1725561900-1725566400@halcyonvillage.net
SUMMARY:Surviving Suffering (book club for survivors)📖
DESCRIPTION:Surviving Suffering \nSuffering is a defining reality of life. Yet many of us are so focused on avoiding discomfort that we’ve never learned how to suffer. But what if we could move from anxiety to durable hope? In The Deepest Place\, Curt Thompson\, MD\, invites us to explore how the Apostle Paul’s experience of love\, secure attachment\, and the deeply felt sense of God’s abiding presence carried him through the challenges he faced–and how it can help us not just survive\, but flourish in the presence of suffering.
URL:https://halcyonvillage.net/event/surviving-suffering-book-club-for-survivors%f0%9f%93%96/
END:VEVENT
BEGIN:VEVENT
DTSTART;VALUE=DATE:20240905
DTEND;VALUE=DATE:20240906
DTSTAMP:20260423T203046
CREATED:20240903T123824Z
LAST-MODIFIED:20240903T123824Z
UID:4347-1725494400-1725580799@halcyonvillage.net
SUMMARY:Stephanies 1st Villageversary
DESCRIPTION:
URL:https://halcyonvillage.net/event/stephanies-1st-villageversary/
END:VEVENT
BEGIN:VEVENT
DTSTART;VALUE=DATE:20240902
DTEND;VALUE=DATE:20240903
DTSTAMP:20260423T203046
CREATED:20240903T123440Z
LAST-MODIFIED:20240903T123634Z
UID:4345-1725235200-1725321599@halcyonvillage.net
SUMMARY:Village Closed for Labor Day
DESCRIPTION:
URL:https://halcyonvillage.net/event/village-closed-for-labor-day/
END:VEVENT
BEGIN:VEVENT
DTSTART;VALUE=DATE:20240824
DTEND;VALUE=DATE:20240825
DTSTAMP:20260423T203046
CREATED:20240810T205110Z
LAST-MODIFIED:20240810T205110Z
UID:4283-1724457600-1724543999@halcyonvillage.net
SUMMARY:Macaley's Birthday🎂
DESCRIPTION:
URL:https://halcyonvillage.net/event/macaleys-birthday%f0%9f%8e%82/
END:VEVENT
END:VCALENDAR